BEGIN:VCALENDAR
VERSION:2.0
PRODID:-//178.254.10.74//NONSGML kigkonsult.se iCalcreator 2.20//
CALSCALE:GREGORIAN
METHOD:PUBLISH
X-WR-TIMEZONE:UTC
BEGIN:VEVENT
UID:event5@Kultur-Forum Partenheim 
DTSTAMP:20260420T142832Z
CATEGORIES:Tradition bewahren\, Gemeinsam feiern
DESCRIPTION:Wingertsheisjewanderung\nKategorie: Tradition bewahren\, Gemein
 sam feiern\nICS-Link: https://www.kulturforum-partenheim.de/index.php?opti
 on=com_jem&view=event&id=5:wingertsheisjewanderung\n
DTSTART;VALUE=DATE:20260802
DTEND;VALUE=DATE:20260803
LOCATION:Schlechtsheisje\,55288 Partenheim\,Germany
SUMMARY:Wingertsheisjewanderung
URL:https://www.kulturforum-partenheim.de/index.php?option=com_jem&view=eve
 nt&id=5:wingertsheisjewanderung
END:VEVENT
END:VCALENDAR