BEGIN:VCALENDAR
VERSION:2.0
PRODID:-//178.254.10.74//NONSGML kigkonsult.se iCalcreator 2.20//
CALSCALE:GREGORIAN
METHOD:PUBLISH
X-WR-TIMEZONE:UTC
BEGIN:VEVENT
UID:event1@Kultur-Forum Partenheim 
DTSTAMP:20260421T084850Z
CATEGORIES:Kultur erleben
DESCRIPTION:Musikalisch-Literarischer Abend - Rheinhessisches Mundartfestiv
 al\nKategorie: Kultur erleben\nICS-Link: https://www.kulturforum-partenhei
 m.de/index.php?option=com_jem&view=event&id=1:musikalisch-literarischer-ab
 end\n
DTSTART:20260313T190000Z
DTEND:20260313T190000Z
LOCATION:St. Georgen-Halle\,Am Sportplatz 10\,55288 Partenheim
SUMMARY:Musikalisch-Literarischer Abend - Rheinhessisches Mundartfestival
URL:https://www.kulturforum-partenheim.de/index.php?option=com_jem&view=eve
 nt&id=1:musikalisch-literarischer-abend
END:VEVENT
END:VCALENDAR